BEGIN:VCALENDAR
VERSION:2.0
PRODID:-//eventon.com NONSGML v1.0//EN
CALSCALE:GREGORIAN
METHOD:PUBLISH
BEGIN:VEVENT
UID:69ea3afa28c05
DTSTAMP:20260423T153002Z
DTSTART:20250104
DTEND:20250105
LOCATION:
SUMMARY:Western Illinois Museum (Macomb\,  IL)
DESCRIPTION:Western Illinois Museum (Macomb\,  IL)\nhttps://chasingchildhoo
 ddoc.com/events/western-illinois-museum-macomb-il-2/
URL:https://chasingchildhooddoc.com/events/western-illinois-museum-macomb-il-2/
END:VEVENT
END:VCALENDAR