BEGIN:VCALENDAR
VERSION:2.0
PRODID:-//eventon.com NONSGML v1.0//EN
CALSCALE:GREGORIAN
METHOD:PUBLISH
BEGIN:VEVENT
UID:69ea3a8a20ca1
DTSTAMP:20260423T152810Z
DTSTART:20241120
DTEND:20241121
LOCATION:
SUMMARY:Abbott House (Bronx\,  NY)
DESCRIPTION:Abbott House (Bronx\,  NY)\nhttps://chasingchildhooddoc.com/eve
 nts/abbott-house-bronx-ny/
URL:https://chasingchildhooddoc.com/events/abbott-house-bronx-ny/
END:VEVENT
END:VCALENDAR