BEGIN:VCALENDAR
VERSION:2.0
PRODID:-//eventon.com NONSGML v1.0//EN
CALSCALE:GREGORIAN
METHOD:PUBLISH
BEGIN:VEVENT
UID:69ea3b0216a01
DTSTAMP:20260423T153010Z
DTSTART:20241111
DTEND:20241112
LOCATION:
SUMMARY:Scheck Hillel Community School / PTO (Miami\,  FL)
DESCRIPTION:Scheck Hillel Community School / PTO (Miami\,  FL)\nhttps://cha
 singchildhooddoc.com/events/scheck-hillel-community-school-pto-miami-fl/
URL:https://chasingchildhooddoc.com/events/scheck-hillel-community-school-pto-miami-fl/
END:VEVENT
END:VCALENDAR