BEGIN:VCALENDAR
VERSION:2.0
PRODID:-//eventon.com NONSGML v1.0//EN
CALSCALE:GREGORIAN
METHOD:PUBLISH
BEGIN:VEVENT
UID:69ea3aff897b6
DTSTAMP:20260423T153007Z
DTSTART:20241110
DTEND:20241111
LOCATION:
SUMMARY:Morgan County Public Library (Berkeley Springs\,  WV)
DESCRIPTION:Morgan County Public Library (Berkeley Springs\,  WV)\nhttps://
 chasingchildhooddoc.com/events/morgan-county-public-library-berkeley-spring
 s-wv/
URL:https://chasingchildhooddoc.com/events/morgan-county-public-library-berkeley-springs-wv/
END:VEVENT
END:VCALENDAR