BEGIN:VCALENDAR
VERSION:2.0
PRODID:-//eventon.com NONSGML v1.0//EN
CALSCALE:GREGORIAN
METHOD:PUBLISH
BEGIN:VEVENT
UID:69ea3afbe9acc
DTSTAMP:20260423T153003Z
DTSTART:20241108
DTEND:20241109
LOCATION:
SUMMARY:US Embassy Abuja\,  Nigeria EFM (Nigeria)
DESCRIPTION:US Embassy Abuja\,  Nigeria EFM (Nigeria)\nhttps://chasingchild
 hooddoc.com/events/us-embassy-abuja-nigeria-efm-nigeria/
URL:https://chasingchildhooddoc.com/events/us-embassy-abuja-nigeria-efm-nigeria/
END:VEVENT
END:VCALENDAR