BEGIN:VCALENDAR
VERSION:2.0
PRODID:-//eventon.com NONSGML v1.0//EN
CALSCALE:GREGORIAN
METHOD:PUBLISH
BEGIN:VEVENT
UID:69ea3b04331cf
DTSTAMP:20260423T153012Z
DTSTART:20241106
DTEND:20241107
LOCATION:
SUMMARY:Oklahoma Parents for Student Achievement (Oklahoma City\,  OK)
DESCRIPTION:Oklahoma Parents for Student Achievement (Oklahoma City\,  OK)\
 nhttps://chasingchildhooddoc.com/events/oklahoma-parents-for-student-achiev
 ement-oklahoma-city-ok/
URL:https://chasingchildhooddoc.com/events/oklahoma-parents-for-student-achievement-oklahoma-city-ok/
END:VEVENT
END:VCALENDAR