BEGIN:VCALENDAR
VERSION:2.0
PRODID:-//eventon.com NONSGML v1.0//EN
CALSCALE:GREGORIAN
METHOD:PUBLISH
BEGIN:VEVENT
UID:69ea3af275912
DTSTAMP:20260423T152954Z
DTSTART:20241101
DTEND:20241102
LOCATION:
SUMMARY:Stonington\,  CT and Westerly RI (Stonington\,  CT)
DESCRIPTION:Stonington\,  CT and Westerly RI (Stonington\,  CT)\nhttps://ch
 asingchildhooddoc.com/events/stonington-ct-and-westerly-ri-stonington-ct/
URL:https://chasingchildhooddoc.com/events/stonington-ct-and-westerly-ri-stonington-ct/
END:VEVENT
END:VCALENDAR