BEGIN:VCALENDAR
VERSION:2.0
PRODID:-//eventon.com NONSGML v1.0//EN
CALSCALE:GREGORIAN
METHOD:PUBLISH
BEGIN:VEVENT
UID:69ea3afd1fd3b
DTSTAMP:20260423T153005Z
DTSTART:20241101
DTEND:20241102
LOCATION:
SUMMARY:Sts John and Paul (Larchmont\,  NY)
DESCRIPTION:Sts John and Paul (Larchmont\,  NY)\nhttps://chasingchildhooddo
 c.com/events/sts-john-and-paul-larchmont-ny/
URL:https://chasingchildhooddoc.com/events/sts-john-and-paul-larchmont-ny/
END:VEVENT
END:VCALENDAR