BEGIN:VCALENDAR
VERSION:2.0
PRODID:-//eventon.com NONSGML v1.0//EN
CALSCALE:GREGORIAN
METHOD:PUBLISH
BEGIN:VEVENT
UID:69ea3af105746
DTSTAMP:20260423T152953Z
DTSTART:20241029
DTEND:20241030
LOCATION:
SUMMARY:Oklahoma Parents Center (Wewoka\,  OK)
DESCRIPTION:Oklahoma Parents Center (Wewoka\,  OK)\nhttps://chasingchildhoo
 ddoc.com/events/oklahoma-parents-center-wewoka-ok/
URL:https://chasingchildhooddoc.com/events/oklahoma-parents-center-wewoka-ok/
END:VEVENT
END:VCALENDAR