BEGIN:VCALENDAR
VERSION:2.0
PRODID:-//eventon.com NONSGML v1.0//EN
CALSCALE:GREGORIAN
METHOD:PUBLISH
BEGIN:VEVENT
UID:69e739d689602
DTSTAMP:20260421T084822Z
DTSTART:20241029
DTEND:20241030
LOCATION:
SUMMARY:Deerfield Public Schools District 109 (Deerfield\,  IL)
DESCRIPTION:Deerfield Public Schools District 109 (Deerfield\,  IL)\nhttps:
 //chasingchildhooddoc.com/events/deerfield-public-schools-district-109-deer
 field-il-2/
URL:https://chasingchildhooddoc.com/events/deerfield-public-schools-district-109-deerfield-il-2/
END:VEVENT
END:VCALENDAR