BEGIN:VCALENDAR
VERSION:2.0
PRODID:-//eventon.com NONSGML v1.0//EN
CALSCALE:GREGORIAN
METHOD:PUBLISH
BEGIN:VEVENT
UID:69ea3aa4234a4
DTSTAMP:20260423T152836Z
DTSTART:20241024
DTEND:20241025
LOCATION:
SUMMARY:Pascua Yaqui Tribe (Tucson\,  AZ)
DESCRIPTION:Pascua Yaqui Tribe (Tucson\,  AZ)\nhttps://chasingchildhooddoc.
 com/events/pascua-yaqui-tribe-tucson-az-2/
URL:https://chasingchildhooddoc.com/events/pascua-yaqui-tribe-tucson-az-2/
END:VEVENT
END:VCALENDAR