BEGIN:VCALENDAR
VERSION:2.0
PRODID:-//eventon.com NONSGML v1.0//EN
CALSCALE:GREGORIAN
METHOD:PUBLISH
BEGIN:VEVENT
UID:69ea3afa3993a
DTSTAMP:20260423T153002Z
DTSTART:20241019
DTEND:20241020
LOCATION:
SUMMARY:Church (Fort Collins\,  CO)
DESCRIPTION:Church (Fort Collins\,  CO)\nhttps://chasingchildhooddoc.com/ev
 ents/church-fort-collins-co/
URL:https://chasingchildhooddoc.com/events/church-fort-collins-co/
END:VEVENT
END:VCALENDAR