BEGIN:VCALENDAR
VERSION:2.0
PRODID:-//eventon.com NONSGML v1.0//EN
CALSCALE:GREGORIAN
METHOD:PUBLISH
BEGIN:VEVENT
UID:69ea3aff45e07
DTSTAMP:20260423T153007Z
DTSTART:20241016
DTEND:20241017
LOCATION:
SUMMARY:Newport Beach Rotary (Newport Beach \,  CA)
DESCRIPTION:Newport Beach Rotary (Newport Beach \,  CA)\nhttps://chasingchi
 ldhooddoc.com/events/newport-beach-rotary-newport-beach-ca-2/
URL:https://chasingchildhooddoc.com/events/newport-beach-rotary-newport-beach-ca-2/
END:VEVENT
END:VCALENDAR