BEGIN:VCALENDAR
VERSION:2.0
PRODID:-//eventon.com NONSGML v1.0//EN
CALSCALE:GREGORIAN
METHOD:PUBLISH
BEGIN:VEVENT
UID:69ea3b45121f6
DTSTAMP:20260423T153117Z
DTSTART:20241015
DTEND:20241016
LOCATION:
SUMMARY:Princeton Learning Cooperative (Langhorne\,  PA)
DESCRIPTION:Princeton Learning Cooperative (Langhorne\,  PA)\nhttps://chasi
 ngchildhooddoc.com/events/princeton-learning-cooperative-langhorne-pa-2/
URL:https://chasingchildhooddoc.com/events/princeton-learning-cooperative-langhorne-pa-2/
END:VEVENT
END:VCALENDAR