BEGIN:VCALENDAR
VERSION:2.0
PRODID:-//eventon.com NONSGML v1.0//EN
CALSCALE:GREGORIAN
METHOD:PUBLISH
BEGIN:VEVENT
UID:69ea3b00f1e4c
DTSTAMP:20260423T153008Z
DTSTART:20241012
DTEND:20241013
LOCATION:
SUMMARY:First Frisco Global Methodist Church (Frisco\,  TX)
DESCRIPTION:First Frisco Global Methodist Church (Frisco\,  TX)\nhttps://ch
 asingchildhooddoc.com/events/first-frisco-global-methodist-church-frisco-tx
 /
URL:https://chasingchildhooddoc.com/events/first-frisco-global-methodist-church-frisco-tx/
END:VEVENT
END:VCALENDAR