BEGIN:VCALENDAR
VERSION:2.0
PRODID:-//eventon.com NONSGML v1.0//EN
CALSCALE:GREGORIAN
METHOD:PUBLISH
BEGIN:VEVENT
UID:69ea3b05d82e6
DTSTAMP:20260423T153013Z
DTSTART:20241010
DTEND:20241011
LOCATION:
SUMMARY:The Wellness Centre (Cayman Islands)
DESCRIPTION:The Wellness Centre (Cayman Islands)\nhttps://chasingchildhoodd
 oc.com/events/the-wellness-centre-cayman-islands/
URL:https://chasingchildhooddoc.com/events/the-wellness-centre-cayman-islands/
END:VEVENT
END:VCALENDAR