BEGIN:VCALENDAR
VERSION:2.0
PRODID:-//eventon.com NONSGML v1.0//EN
CALSCALE:GREGORIAN
METHOD:PUBLISH
BEGIN:VEVENT
UID:69ea3b0434d8d
DTSTAMP:20260423T153012Z
DTSTART:20241010
DTEND:20241011
LOCATION:
SUMMARY:Karma Club Teen (San Rafael\,  CA)
DESCRIPTION:Karma Club Teen (San Rafael\,  CA)\nhttps://chasingchildhooddoc
 .com/events/karma-club-teen-san-rafael-ca/
URL:https://chasingchildhooddoc.com/events/karma-club-teen-san-rafael-ca/
END:VEVENT
END:VCALENDAR