BEGIN:VCALENDAR
VERSION:2.0
PRODID:-//eventon.com NONSGML v1.0//EN
CALSCALE:GREGORIAN
METHOD:PUBLISH
BEGIN:VEVENT
UID:69ea3b010d413
DTSTAMP:20260423T153009Z
DTSTART:20241005
DTEND:20241006
LOCATION:
SUMMARY:Parent Group (Australia)
DESCRIPTION:Parent Group (Australia)\nhttps://chasingchildhooddoc.com/event
 s/parent-group-australia/
URL:https://chasingchildhooddoc.com/events/parent-group-australia/
END:VEVENT
END:VCALENDAR