BEGIN:VCALENDAR
VERSION:2.0
PRODID:-//eventon.com NONSGML v1.0//EN
CALSCALE:GREGORIAN
METHOD:PUBLISH
BEGIN:VEVENT
UID:69ea3b4669786
DTSTAMP:20260423T153118Z
DTSTART:20241004
DTEND:20241005
LOCATION:
SUMMARY:Arlington Community Group (Arlington\,  VA)
DESCRIPTION:Arlington Community Group (Arlington\,  VA)\nhttps://chasingchi
 ldhooddoc.com/events/arlington-community-group-arlington-va/
URL:https://chasingchildhooddoc.com/events/arlington-community-group-arlington-va/
END:VEVENT
END:VCALENDAR