BEGIN:VCALENDAR
VERSION:2.0
PRODID:-//eventon.com NONSGML v1.0//EN
CALSCALE:GREGORIAN
METHOD:PUBLISH
BEGIN:VEVENT
UID:69ea3b03762a2
DTSTAMP:20260423T153011Z
DTSTART:20241002
DTEND:20241003
LOCATION:
SUMMARY:Bethel Korean Presbyterian Church (Ellicott City\,  MD)
DESCRIPTION:Bethel Korean Presbyterian Church (Ellicott City\,  MD)\nhttps:
 //chasingchildhooddoc.com/events/bethel-korean-presbyterian-church-ellicott
 -city-md/
URL:https://chasingchildhooddoc.com/events/bethel-korean-presbyterian-church-ellicott-city-md/
END:VEVENT
END:VCALENDAR