BEGIN:VCALENDAR
VERSION:2.0
PRODID:-//eventon.com NONSGML v1.0//EN
CALSCALE:GREGORIAN
METHOD:PUBLISH
BEGIN:VEVENT
UID:69ea3b02c173e
DTSTAMP:20260423T153010Z
DTSTART:20241001
DTEND:20241002
LOCATION:
SUMMARY:Jennifer Bensinger Katz\,  LCSW (Deerfield\,  IL)
DESCRIPTION:Jennifer Bensinger Katz\,  LCSW (Deerfield\,  IL)\nhttps://chas
 ingchildhooddoc.com/events/jennifer-bensinger-katz-lcsw-deerfield-il/
URL:https://chasingchildhooddoc.com/events/jennifer-bensinger-katz-lcsw-deerfield-il/
END:VEVENT
END:VCALENDAR