BEGIN:VCALENDAR
VERSION:2.0
PRODID:-//eventon.com NONSGML v1.0//EN
CALSCALE:GREGORIAN
METHOD:PUBLISH
BEGIN:VEVENT
UID:69ea3af8c202c
DTSTAMP:20260423T153000Z
DTSTART:20240930
DTEND:20241001
LOCATION:
SUMMARY:The Link Counseling Center (Atlanta\,  GA)
DESCRIPTION:The Link Counseling Center (Atlanta\,  GA)\nhttps://chasingchil
 dhooddoc.com/events/the-link-counseling-center-atlanta-ga/
URL:https://chasingchildhooddoc.com/events/the-link-counseling-center-atlanta-ga/
END:VEVENT
END:VCALENDAR