BEGIN:VCALENDAR
VERSION:2.0
PRODID:-//eventon.com NONSGML v1.0//EN
CALSCALE:GREGORIAN
METHOD:PUBLISH
BEGIN:VEVENT
UID:69ea3b00b4749
DTSTAMP:20260423T153008Z
DTSTART:20240928
DTEND:20240929
LOCATION:
SUMMARY:Sparrow Ministrees (Caddo Mills\,  TX)
DESCRIPTION:Sparrow Ministrees (Caddo Mills\,  TX)\nhttps://chasingchildhoo
 ddoc.com/events/sparrow-ministrees-caddo-mills-tx/
URL:https://chasingchildhooddoc.com/events/sparrow-ministrees-caddo-mills-tx/
END:VEVENT
END:VCALENDAR