BEGIN:VCALENDAR
VERSION:2.0
PRODID:-//eventon.com NONSGML v1.0//EN
CALSCALE:GREGORIAN
METHOD:PUBLISH
BEGIN:VEVENT
UID:69ea3b00ed03b
DTSTAMP:20260423T153008Z
DTSTART:20240917
DTEND:20240918
LOCATION:
SUMMARY:St. Andrew Presbyterian Church (Yuba City\,  CA)
DESCRIPTION:St. Andrew Presbyterian Church (Yuba City\,  CA)\nhttps://chasi
 ngchildhooddoc.com/events/st-andrew-presbyterian-church-yuba-city-ca/
URL:https://chasingchildhooddoc.com/events/st-andrew-presbyterian-church-yuba-city-ca/
END:VEVENT
END:VCALENDAR