BEGIN:VCALENDAR
VERSION:2.0
PRODID:-//eventon.com NONSGML v1.0//EN
CALSCALE:GREGORIAN
METHOD:PUBLISH
BEGIN:VEVENT
UID:69ea3aec7499a
DTSTAMP:20260423T152948Z
DTSTART:20240915
DTEND:20240916
LOCATION:
SUMMARY:Grandview Preparatory School (Boca Raton\,  FL)
DESCRIPTION:Grandview Preparatory School (Boca Raton\,  FL)\nhttps://chasin
 gchildhooddoc.com/events/grandview-preparatory-school-boca-raton-fl/
URL:https://chasingchildhooddoc.com/events/grandview-preparatory-school-boca-raton-fl/
END:VEVENT
END:VCALENDAR