BEGIN:VCALENDAR
VERSION:2.0
PRODID:-//eventon.com NONSGML v1.0//EN
CALSCALE:GREGORIAN
METHOD:PUBLISH
BEGIN:VEVENT
UID:69ea3b013f99c
DTSTAMP:20260423T153009Z
DTSTART:20240914
DTEND:20240915
LOCATION:
SUMMARY:Miami Sudbury School (Miami\,  FL)
DESCRIPTION:Miami Sudbury School (Miami\,  FL)\nhttps://chasingchildhooddoc
 .com/events/miami-sudbury-school-miami-fl/
URL:https://chasingchildhooddoc.com/events/miami-sudbury-school-miami-fl/
END:VEVENT
END:VCALENDAR