BEGIN:VCALENDAR
VERSION:2.0
PRODID:-//eventon.com NONSGML v1.0//EN
CALSCALE:GREGORIAN
METHOD:PUBLISH
BEGIN:VEVENT
UID:69ea3afd61cb3
DTSTAMP:20260423T153005Z
DTSTART:20240913
DTEND:20240914
LOCATION:
SUMMARY:Goodloe HUGS Learning Community (Waldorf\,  MD)
DESCRIPTION:Goodloe HUGS Learning Community (Waldorf\,  MD)\nhttps://chasin
 gchildhooddoc.com/events/goodloe-hugs-learning-community-waldorf-md/
URL:https://chasingchildhooddoc.com/events/goodloe-hugs-learning-community-waldorf-md/
END:VEVENT
END:VCALENDAR