BEGIN:VCALENDAR
VERSION:2.0
PRODID:-//eventon.com NONSGML v1.0//EN
CALSCALE:GREGORIAN
METHOD:PUBLISH
BEGIN:VEVENT
UID:69ea3aed751b5
DTSTAMP:20260423T152949Z
DTSTART:20240911
DTEND:20240912
LOCATION:
SUMMARY:PVPA (South Hadley\,  MA)
DESCRIPTION:PVPA (South Hadley\,  MA)\nhttps://chasingchildhooddoc.com/even
 ts/pvpa-south-hadley-ma/
URL:https://chasingchildhooddoc.com/events/pvpa-south-hadley-ma/
END:VEVENT
END:VCALENDAR