BEGIN:VCALENDAR
VERSION:2.0
PRODID:-//eventon.com NONSGML v1.0//EN
CALSCALE:GREGORIAN
METHOD:PUBLISH
BEGIN:VEVENT
UID:69ea3afd66af4
DTSTAMP:20260423T153005Z
DTSTART:20240906
DTEND:20240907
LOCATION:
SUMMARY:First Presbyterian School (Oklahoma City\,  OK)
DESCRIPTION:First Presbyterian School (Oklahoma City\,  OK)\nhttps://chasin
 gchildhooddoc.com/events/first-presbyterian-school-oklahoma-city-ok/
URL:https://chasingchildhooddoc.com/events/first-presbyterian-school-oklahoma-city-ok/
END:VEVENT
END:VCALENDAR