BEGIN:VCALENDAR
VERSION:2.0
PRODID:-//eventon.com NONSGML v1.0//EN
CALSCALE:GREGORIAN
METHOD:PUBLISH
BEGIN:VEVENT
UID:69ea3b02e4e79
DTSTAMP:20260423T153010Z
DTSTART:20240904
DTEND:20240905
LOCATION:
SUMMARY:Strelitz International Academy (Virginia Beach\,  VA)
DESCRIPTION:Strelitz International Academy (Virginia Beach\,  VA)\nhttps://
 chasingchildhooddoc.com/events/strelitz-international-academy-virginia-beac
 h-va/
URL:https://chasingchildhooddoc.com/events/strelitz-international-academy-virginia-beach-va/
END:VEVENT
END:VCALENDAR