BEGIN:VCALENDAR
VERSION:2.0
PRODID:-//eventon.com NONSGML v1.0//EN
CALSCALE:GREGORIAN
METHOD:PUBLISH
BEGIN:VEVENT
UID:69ea3a9bcc912
DTSTAMP:20260423T152827Z
DTSTART:20240904
DTEND:20240905
LOCATION:
SUMMARY:Springhill Elementary (Lafayette\,  CA)
DESCRIPTION:Springhill Elementary (Lafayette\,  CA)\nhttps://chasingchildho
 oddoc.com/events/springhill-elementary-lafayette-ca/
URL:https://chasingchildhooddoc.com/events/springhill-elementary-lafayette-ca/
END:VEVENT
END:VCALENDAR