BEGIN:VCALENDAR
VERSION:2.0
PRODID:-//eventon.com NONSGML v1.0//EN
CALSCALE:GREGORIAN
METHOD:PUBLISH
BEGIN:VEVENT
UID:69ea3ad3e4e82
DTSTAMP:20260423T152923Z
DTSTART:20240901
DTEND:20240902
LOCATION:
SUMMARY:Lewiston Community Group (Lewiston\,  MA)
DESCRIPTION:Lewiston Community Group (Lewiston\,  MA)\nhttps://chasingchild
 hooddoc.com/events/lewiston-community-group-lewiston-ma/
URL:https://chasingchildhooddoc.com/events/lewiston-community-group-lewiston-ma/
END:VEVENT
END:VCALENDAR