BEGIN:VCALENDAR
VERSION:2.0
PRODID:-//eventon.com NONSGML v1.0//EN
CALSCALE:GREGORIAN
METHOD:PUBLISH
BEGIN:VEVENT
UID:69ea3acf82593
DTSTAMP:20260423T152919Z
DTSTART:20240901
DTEND:20240902
LOCATION:
SUMMARY:The Village Electric Learning Center (South Orange\,  NJ)
DESCRIPTION:The Village Electric Learning Center (South Orange\,  NJ)\nhttp
 s://chasingchildhooddoc.com/events/the-village-electric-learning-center-sou
 th-orange-nj/
URL:https://chasingchildhooddoc.com/events/the-village-electric-learning-center-south-orange-nj/
END:VEVENT
END:VCALENDAR