BEGIN:VCALENDAR
VERSION:2.0
PRODID:-//eventon.com NONSGML v1.0//EN
CALSCALE:GREGORIAN
METHOD:PUBLISH
BEGIN:VEVENT
UID:69ea3a98a6937
DTSTAMP:20260423T152824Z
DTSTART:20240830
DTEND:20240831
LOCATION:
SUMMARY:Department for Education-Felixstow (Australia)
DESCRIPTION:Department for Education-Felixstow (Australia)\nhttps://chasing
 childhooddoc.com/events/department-for-education-felixstow-australia/
URL:https://chasingchildhooddoc.com/events/department-for-education-felixstow-australia/
END:VEVENT
END:VCALENDAR