BEGIN:VCALENDAR
VERSION:2.0
PRODID:-//eventon.com NONSGML v1.0//EN
CALSCALE:GREGORIAN
METHOD:PUBLISH
BEGIN:VEVENT
UID:69ea3b0552f0c
DTSTAMP:20260423T153013Z
DTSTART:20240829
DTEND:20240830
LOCATION:
SUMMARY:Parent Group (Rutherford\,  NJ)
DESCRIPTION:Parent Group (Rutherford\,  NJ)\nhttps://chasingchildhooddoc.co
 m/events/parent-group-rutherford-nj/
URL:https://chasingchildhooddoc.com/events/parent-group-rutherford-nj/
END:VEVENT
END:VCALENDAR