BEGIN:VCALENDAR
VERSION:2.0
PRODID:-//eventon.com NONSGML v1.0//EN
CALSCALE:GREGORIAN
METHOD:PUBLISH
BEGIN:VEVENT
UID:69ea3acd801af
DTSTAMP:20260423T152917Z
DTSTART:20240829
DTEND:20240830
LOCATION:
SUMMARY:Liquidity Crisis Film Society (Hong Kong)
DESCRIPTION:Liquidity Crisis Film Society (Hong Kong)\nhttps://chasingchild
 hooddoc.com/events/liquidity-crisis-film-society-hong-kong/
URL:https://chasingchildhooddoc.com/events/liquidity-crisis-film-society-hong-kong/
END:VEVENT
END:VCALENDAR