BEGIN:VCALENDAR
VERSION:2.0
PRODID:-//eventon.com NONSGML v1.0//EN
CALSCALE:GREGORIAN
METHOD:PUBLISH
BEGIN:VEVENT
UID:69ea3a5589676
DTSTAMP:20260423T152717Z
DTSTART:20240816
DTEND:20240817
LOCATION:
SUMMARY:ASI Mexico (Mexico)
DESCRIPTION:ASI Mexico (Mexico)\nhttps://chasingchildhooddoc.com/events/asi
 -mexico-mexico/
URL:https://chasingchildhooddoc.com/events/asi-mexico-mexico/
END:VEVENT
END:VCALENDAR