BEGIN:VCALENDAR
VERSION:2.0
PRODID:-//eventon.com NONSGML v1.0//EN
CALSCALE:GREGORIAN
METHOD:PUBLISH
BEGIN:VEVENT
UID:69ea3b03d05f6
DTSTAMP:20260423T153011Z
DTSTART:20240816
DTEND:20240817
LOCATION:
SUMMARY:Roulhac Enterprises Inc (Boston\,  MA)
DESCRIPTION:Roulhac Enterprises Inc (Boston\,  MA)\nhttps://chasingchildhoo
 ddoc.com/events/roulhac-enterprises-inc-boston-ma/
URL:https://chasingchildhooddoc.com/events/roulhac-enterprises-inc-boston-ma/
END:VEVENT
END:VCALENDAR