BEGIN:VCALENDAR
VERSION:2.0
PRODID:-//eventon.com NONSGML v1.0//EN
CALSCALE:GREGORIAN
METHOD:PUBLISH
BEGIN:VEVENT
UID:69ea3a9a6abec
DTSTAMP:20260423T152826Z
DTSTART:20240815
DTEND:20240816
LOCATION:
SUMMARY:Waterville Public Library (Waterville\,  NY)
DESCRIPTION:Waterville Public Library (Waterville\,  NY)\nhttps://chasingch
 ildhooddoc.com/events/waterville-public-library-waterville-ny/
URL:https://chasingchildhooddoc.com/events/waterville-public-library-waterville-ny/
END:VEVENT
END:VCALENDAR