BEGIN:VCALENDAR
VERSION:2.0
PRODID:-//eventon.com NONSGML v1.0//EN
CALSCALE:GREGORIAN
METHOD:PUBLISH
BEGIN:VEVENT
UID:69ea3aab51fb4
DTSTAMP:20260423T152843Z
DTSTART:20240809
DTEND:20240810
LOCATION:
SUMMARY:Alianza por la Seguridad en Internet AC (Mexico)
DESCRIPTION:Alianza por la Seguridad en Internet AC (Mexico)\nhttps://chasi
 ngchildhooddoc.com/events/alianza-por-la-seguridad-en-internet-ac-mexico/
URL:https://chasingchildhooddoc.com/events/alianza-por-la-seguridad-en-internet-ac-mexico/
END:VEVENT
END:VCALENDAR