BEGIN:VCALENDAR
VERSION:2.0
PRODID:-//eventon.com NONSGML v1.0//EN
CALSCALE:GREGORIAN
METHOD:PUBLISH
BEGIN:VEVENT
UID:69ea3a83d0efc
DTSTAMP:20260423T152803Z
DTSTART:20240714
DTEND:20240715
LOCATION:
SUMMARY:DePere Cultural Foundation / Mulva Cultural Center (DePere\,  WI)
DESCRIPTION:DePere Cultural Foundation / Mulva Cultural Center (DePere\,  W
 I)\nhttps://chasingchildhooddoc.com/events/depere-cultural-foundation-mulva
 -cultural-center-depere-wi/
URL:https://chasingchildhooddoc.com/events/depere-cultural-foundation-mulva-cultural-center-depere-wi/
END:VEVENT
END:VCALENDAR