BEGIN:VCALENDAR
VERSION:2.0
PRODID:-//eventon.com NONSGML v1.0//EN
CALSCALE:GREGORIAN
METHOD:PUBLISH
BEGIN:VEVENT
UID:69ea3a887e939
DTSTAMP:20260423T152808Z
DTSTART:20240620
DTEND:20240621
LOCATION:
SUMMARY:Alpha Acton Academy Folsom (Folsom\,  CA)
DESCRIPTION:Alpha Acton Academy Folsom (Folsom\,  CA)\nhttps://chasingchild
 hooddoc.com/events/alpha-acton-academy-folsom-folsom-ca/
URL:https://chasingchildhooddoc.com/events/alpha-acton-academy-folsom-folsom-ca/
END:VEVENT
END:VCALENDAR