BEGIN:VCALENDAR
VERSION:2.0
PRODID:-//eventon.com NONSGML v1.0//EN
CALSCALE:GREGORIAN
METHOD:PUBLISH
BEGIN:VEVENT
UID:69ea3a2a36b2c
DTSTAMP:20260423T152634Z
DTSTART:20240614
DTEND:20240615
LOCATION:
SUMMARY:Children's Advocacy Center of North and Northwest Cook County (Hoffman Estates\,  IL)
DESCRIPTION:Children's Advocacy Center of North and Northwest Cook County (
 Hoffman Estates\,  IL)\nhttps://chasingchildhooddoc.com/events/childrens-ad
 vocacy-center-of-north-and-northwest-cook-county-hoffman-estates-il/
URL:https://chasingchildhooddoc.com/events/childrens-advocacy-center-of-north-and-northwest-cook-county-hoffman-estates-il/
END:VEVENT
END:VCALENDAR