BEGIN:VCALENDAR
VERSION:2.0
PRODID:-//eventon.com NONSGML v1.0//EN
CALSCALE:GREGORIAN
METHOD:PUBLISH
BEGIN:VEVENT
UID:69ea3af757405
DTSTAMP:20260423T152959Z
DTSTART:20240605
DTEND:20240606
LOCATION:
SUMMARY:Center for Spiritual Wisdom (Brevard\,  NC)
DESCRIPTION:Center for Spiritual Wisdom (Brevard\,  NC)\nhttps://chasingchi
 ldhooddoc.com/events/center-for-spiritual-wisdom-brevard-nc-2/
URL:https://chasingchildhooddoc.com/events/center-for-spiritual-wisdom-brevard-nc-2/
END:VEVENT
END:VCALENDAR