BEGIN:VCALENDAR
VERSION:2.0
PRODID:-//eventon.com NONSGML v1.0//EN
CALSCALE:GREGORIAN
METHOD:PUBLISH
BEGIN:VEVENT
UID:69ea3b46552e3
DTSTAMP:20260423T153118Z
DTSTART:20240605
DTEND:20240606
LOCATION:
SUMMARY:UC Davis Graduate Studies (Davis\,  CA)
DESCRIPTION:UC Davis Graduate Studies (Davis\,  CA)\nhttps://chasingchildho
 oddoc.com/events/uc-davis-graduate-studies-davis-ca-2/
URL:https://chasingchildhooddoc.com/events/uc-davis-graduate-studies-davis-ca-2/
END:VEVENT
END:VCALENDAR