BEGIN:VCALENDAR
VERSION:2.0
PRODID:-//eventon.com NONSGML v1.0//EN
CALSCALE:GREGORIAN
METHOD:PUBLISH
BEGIN:VEVENT
UID:69ea3a7848c85
DTSTAMP:20260423T152752Z
DTSTART:20240601
DTEND:20240602
LOCATION:
SUMMARY:SHAFFER'S HIGH SIERRA CAMP (Tahoe National Forest\,  CA)
DESCRIPTION:SHAFFER'S HIGH SIERRA CAMP (Tahoe National Forest\,  CA)\nhttps
 ://chasingchildhooddoc.com/events/shaffers-high-sierra-camp-tahoe-national-
 forest-ca-2/
URL:https://chasingchildhooddoc.com/events/shaffers-high-sierra-camp-tahoe-national-forest-ca-2/
END:VEVENT
END:VCALENDAR