BEGIN:VCALENDAR
VERSION:2.0
PRODID:-//eventon.com NONSGML v1.0//EN
CALSCALE:GREGORIAN
METHOD:PUBLISH
BEGIN:VEVENT
UID:69e7384a7893d
DTSTAMP:20260421T084146Z
DTSTART:20240517
DTEND:20240518
LOCATION:
SUMMARY:Communities Choosing Childhood (Acton\,  MA)
DESCRIPTION:Communities Choosing Childhood (Acton\,  MA)\nhttps://chasingch
 ildhooddoc.com/events/communities-choosing-childhood-acton-ma-2/
URL:https://chasingchildhooddoc.com/events/communities-choosing-childhood-acton-ma-2/
END:VEVENT
END:VCALENDAR