BEGIN:VCALENDAR
VERSION:2.0
PRODID:-//eventon.com NONSGML v1.0//EN
CALSCALE:GREGORIAN
METHOD:PUBLISH
BEGIN:VEVENT
UID:69ea3aefbbf14
DTSTAMP:20260423T152951Z
DTSTART:20240515
DTEND:20240516
LOCATION:
SUMMARY:Woodbridge School (Andover\,  MA)
DESCRIPTION:Woodbridge School (Andover\,  MA)\nhttps://chasingchildhooddoc.
 com/events/woodbridge-school-andover-ma/
URL:https://chasingchildhooddoc.com/events/woodbridge-school-andover-ma/
END:VEVENT
END:VCALENDAR