BEGIN:VCALENDAR
VERSION:2.0
PRODID:-//eventon.com NONSGML v1.0//EN
CALSCALE:GREGORIAN
METHOD:PUBLISH
BEGIN:VEVENT
UID:69ea3afabc869
DTSTAMP:20260423T153002Z
DTSTART:20240508
DTEND:20240509
LOCATION:
SUMMARY:Seattle Parent Community (Seattle\,  WA)
DESCRIPTION:Seattle Parent Community (Seattle\,  WA)\nhttps://chasingchildh
 ooddoc.com/events/seattle-parent-community-seattle-wa-2/
URL:https://chasingchildhooddoc.com/events/seattle-parent-community-seattle-wa-2/
END:VEVENT
END:VCALENDAR