BEGIN:VCALENDAR
VERSION:2.0
PRODID:-//eventon.com NONSGML v1.0//EN
CALSCALE:GREGORIAN
METHOD:PUBLISH
BEGIN:VEVENT
UID:69ea3af878ff7
DTSTAMP:20260423T153000Z
DTSTART:20240507
DTEND:20240508
LOCATION:
SUMMARY:Arizona State University (Tempe\,  AZ)
DESCRIPTION:Arizona State University (Tempe\,  AZ)\nhttps://chasingchildhoo
 ddoc.com/events/arizona-state-university-tempe-az-2/
URL:https://chasingchildhooddoc.com/events/arizona-state-university-tempe-az-2/
END:VEVENT
END:VCALENDAR